BEGIN:VCALENDAR
VERSION:2.0
PRODID:-//Upstate Homeschool Co-op - ECPv6.15.20//NONSGML v1.0//EN
CALSCALE:GREGORIAN
METHOD:PUBLISH
X-ORIGINAL-URL:https://upstatecoop.org
X-WR-CALDESC:Events for Upstate Homeschool Co-op
REFRESH-INTERVAL;VALUE=DURATION:PT1H
X-Robots-Tag:noindex
X-PUBLISHED-TTL:PT1H
BEGIN:VTIMEZONE
TZID:America/New_York
BEGIN:DAYLIGHT
TZOFFSETFROM:-0500
TZOFFSETTO:-0400
TZNAME:EDT
DTSTART:20250309T070000
END:DAYLIGHT
BEGIN:STANDARD
TZOFFSETFROM:-0400
TZOFFSETTO:-0500
TZNAME:EST
DTSTART:20251102T060000
END:STANDARD
BEGIN:DAYLIGHT
TZOFFSETFROM:-0500
TZOFFSETTO:-0400
TZNAME:EDT
DTSTART:20260308T070000
END:DAYLIGHT
BEGIN:STANDARD
TZOFFSETFROM:-0400
TZOFFSETTO:-0500
TZNAME:EST
DTSTART:20261101T060000
END:STANDARD
BEGIN:DAYLIGHT
TZOFFSETFROM:-0500
TZOFFSETTO:-0400
TZNAME:EDT
DTSTART:20270314T070000
END:DAYLIGHT
BEGIN:STANDARD
TZOFFSETFROM:-0400
TZOFFSETTO:-0500
TZNAME:EST
DTSTART:20271107T060000
END:STANDARD
END:VTIMEZONE
BEGIN:VEVENT
DTSTART;VALUE=DATE:20260428
DTEND;VALUE=DATE:20260429
DTSTAMP:20260424T064915
CREATED:20250416T174824Z
LAST-MODIFIED:20250416T174824Z
UID:10001038-1777334400-1777420799@upstatecoop.org
SUMMARY:SPT - HS Exams - 1st and 2nd Hour
DESCRIPTION:
URL:https://upstatecoop.org/event/spt-hs-exams-1st-and-2nd-hour-2/
CATEGORIES:Class Schedule,Spartanburg,High School
END:VEVENT
BEGIN:VEVENT
DTSTART;VALUE=DATE:20260430
DTEND;VALUE=DATE:20260501
DTSTAMP:20260424T064915
CREATED:20250416T175001Z
LAST-MODIFIED:20250416T175001Z
UID:10001040-1777507200-1777593599@upstatecoop.org
SUMMARY:SPT - HS Exams - 3rd and 4th Hour
DESCRIPTION:
URL:https://upstatecoop.org/event/spt-hs-exams-3rd-and-4th-hour-2/
CATEGORIES:Class Schedule,Spartanburg,High School
END:VEVENT
BEGIN:VEVENT
DTSTART;TZID=America/New_York:20260810T100000
DTEND;TZID=America/New_York:20260810T120000
DTSTAMP:20260424T064915
CREATED:20250224T014948Z
LAST-MODIFIED:20260415T121803Z
UID:10000977-1786356000-1786363200@upstatecoop.org
SUMMARY:GVL - 7th-8th Student Orientation (Mandatory)
DESCRIPTION:FIND 7th/8th DETAILS HERE \n 
URL:https://upstatecoop.org/event/gvl-mandatory-student-orientation-for-7th-12th-grades-2/
LOCATION:Grace Church – Taylors\, 2701 Wade Hampton Blvd.\, Greenville\, SC\, 29615\, United States
CATEGORIES:Class Schedule,Greenville,Middle School,High School
END:VEVENT
BEGIN:VEVENT
DTSTART;TZID=America/New_York:20260811T100000
DTEND;TZID=America/New_York:20260811T121500
DTSTAMP:20260424T064915
CREATED:20260318T163259Z
LAST-MODIFIED:20260318T163259Z
UID:10001393-1786442400-1786450500@upstatecoop.org
SUMMARY:SPT - 6th-8th Student Orientation (Mandatory)
DESCRIPTION:6th-8th Orientation Details HERE (parents invited to attend)
URL:https://upstatecoop.org/event/spt-6th-8th-student-orientation-mandatory/
LOCATION:Church at the Mill – Spartanburg\, 4455 Anderson Mill Road\, Moore\, SC\, 29369\, United States
CATEGORIES:Class Schedule,Spartanburg,Middle School
END:VEVENT
BEGIN:VEVENT
DTSTART;TZID=America/New_York:20260811T133000
DTEND;TZID=America/New_York:20260811T160000
DTSTAMP:20260424T064915
CREATED:20260318T163855Z
LAST-MODIFIED:20260318T163855Z
UID:10001394-1786455000-1786464000@upstatecoop.org
SUMMARY:SPT - High School Student Orientation (Mandatory)
DESCRIPTION:High School Orientation Details HERE \nParent Drop-in from 1:30-2pm \n**8th graders taking high school courses should also attend.
URL:https://upstatecoop.org/event/spt-high-school-student-orientation-mandatory/
LOCATION:Church at the Mill – Spartanburg\, 4455 Anderson Mill Road\, Moore\, SC\, 29369\, United States
CATEGORIES:Class Schedule,Spartanburg,Middle School
END:VEVENT
BEGIN:VEVENT
DTSTART;TZID=America/New_York:20260819T100000
DTEND;TZID=America/New_York:20260819T120000
DTSTAMP:20260424T064915
CREATED:20260415T123658Z
LAST-MODIFIED:20260415T123658Z
UID:10001414-1787133600-1787140800@upstatecoop.org
SUMMARY:TR - 6th-8th Student Orientation (Mandatory)
DESCRIPTION:6th-8th Orientation Details HERE (parents invited to attend)
URL:https://upstatecoop.org/event/tr-6th-8th-student-orientation-mandatory/
LOCATION:Clearview Baptist Church\, 5611 State Park Rd\, Travelers Rest\, SC\, 29690\, United States
CATEGORIES:Class Schedule,Spartanburg,Middle School
END:VEVENT
BEGIN:VEVENT
DTSTART;TZID=America/New_York:20260826T100000
DTEND;TZID=America/New_York:20260826T120000
DTSTAMP:20260424T064915
CREATED:20250224T021235Z
LAST-MODIFIED:20260205T182813Z
UID:10000982-1787738400-1787745600@upstatecoop.org
SUMMARY:GVL - 6th Grade Orientation (Students and Parents / Mandatory)
DESCRIPTION:DETAILS HERE
URL:https://upstatecoop.org/event/gvl-mandatory-orientation-for-6th-grade-3/
LOCATION:Grace Church – Taylors\, 2701 Wade Hampton Blvd.\, Greenville\, SC\, 29615\, United States
CATEGORIES:Class Schedule,Greenville,Middle School
END:VEVENT
END:VCALENDAR