BEGIN:VCALENDAR
VERSION:2.0
PRODID:-//Upstate Homeschool Co-op - ECPv6.15.20//NONSGML v1.0//EN
CALSCALE:GREGORIAN
METHOD:PUBLISH
X-ORIGINAL-URL:https://upstatecoop.org
X-WR-CALDESC:Events for Upstate Homeschool Co-op
REFRESH-INTERVAL;VALUE=DURATION:PT1H
X-Robots-Tag:noindex
X-PUBLISHED-TTL:PT1H
BEGIN:VTIMEZONE
TZID:America/New_York
BEGIN:DAYLIGHT
TZOFFSETFROM:-0500
TZOFFSETTO:-0400
TZNAME:EDT
DTSTART:20230312T070000
END:DAYLIGHT
BEGIN:STANDARD
TZOFFSETFROM:-0400
TZOFFSETTO:-0500
TZNAME:EST
DTSTART:20231105T060000
END:STANDARD
BEGIN:DAYLIGHT
TZOFFSETFROM:-0500
TZOFFSETTO:-0400
TZNAME:EDT
DTSTART:20240310T070000
END:DAYLIGHT
BEGIN:STANDARD
TZOFFSETFROM:-0400
TZOFFSETTO:-0500
TZNAME:EST
DTSTART:20241103T060000
END:STANDARD
BEGIN:DAYLIGHT
TZOFFSETFROM:-0500
TZOFFSETTO:-0400
TZNAME:EDT
DTSTART:20250309T070000
END:DAYLIGHT
BEGIN:STANDARD
TZOFFSETFROM:-0400
TZOFFSETTO:-0500
TZNAME:EST
DTSTART:20251102T060000
END:STANDARD
BEGIN:DAYLIGHT
TZOFFSETFROM:-0500
TZOFFSETTO:-0400
TZNAME:EDT
DTSTART:20260308T070000
END:DAYLIGHT
BEGIN:STANDARD
TZOFFSETFROM:-0400
TZOFFSETTO:-0500
TZNAME:EST
DTSTART:20261101T060000
END:STANDARD
END:VTIMEZONE
BEGIN:VEVENT
DTSTART;VALUE=DATE:20241204
DTEND;VALUE=DATE:20241205
DTSTAMP:20260421T074415
CREATED:20241019T181218Z
LAST-MODIFIED:20241019T181218Z
UID:10000845-1733270400-1733356799@upstatecoop.org
SUMMARY:GVL Elem Make Up Day
DESCRIPTION:This is our make up day from October 16th.
URL:https://upstatecoop.org/event/gvl-elem-make-up-day/
CATEGORIES:Class Schedule,Greenville,Elementary
ORGANIZER:MAILTO:opedersen@upstatecoop.org
END:VEVENT
BEGIN:VEVENT
DTSTART;TZID=America/New_York:20241204T091000
DTEND;TZID=America/New_York:20241204T143500
DTSTAMP:20260421T074415
CREATED:20241113T150510Z
LAST-MODIFIED:20241126T191531Z
UID:10000876-1733303400-1733322900@upstatecoop.org
SUMMARY:GVL Middle School Science Day (Grades 6-8)
DESCRIPTION:Middle School Science Day \nGet ready to enjoy hands-on science activities with our UHC GVL teachers! \nWho: Grades 6-8 \nWhen:  Wednesday\, December 4\, 2024 from 9:10am to 2:35pm  \nWhere: UHC GVL Grace Campus; Check in will be in Main Building 2nd Floor \nCost: $25.00 per student payable upon sign up. \n\n**Important to Remember** \n\nStudents will need to bring their UHC student ID\, water bottle\, and lunch.\nDrop off/pick up will take place in the regular UHC Grace Church carline.  You may drop off from 8:45-9:10am.\n\nStudents will check-in that morning in the gym. \nQuestions? Please email UHC Middle School Director\, Karla Partin: kpartin@upstatecoop.org \nSCIENCE DAY IS FULL. \nPLEASE JOIN THE WAITLIST BELOW\n\nMrs. Carolyn Collett will teach students Physics and Engineering through Cardboard engineering. \n\nOverview: Students will learn about several different science/engineering concepts\, such as: inertia\, Newton’s Laws of Motion\, elasticity\, optics\, and center of mass. Students will use various materials and cutting tools to design and build one (or more) projects. Examples include a floating hummingbird\, a periscope\, a rolling roller-coaster\, and a bouncy skee-ball game.\nStudents bring: pencil\, ruler or measuring tape\, hot glue gun with extra glue sticks\, scissors\, x-acto knife \n\nMrs. Dori Impson will teach students Chemistry through the creation of an Alka-Seltzer Powered Lava Lamp \n\nOverview:  Students will learn about the effect of heat upon a chemical reaction as they make lava lamps using Alka-Seltzer. By applying the Scientific Method\, we will discuss how heat can be a catalyst in chemical reactions by speeding up the movement of molecules. \nStudents bring: Pencil \n\nMrs. Claudia Simpson   \n\nOverview:  Students will be Building Straw and Paper Towers.  Given a specific amount of teacher provided supplies\, students will create then test the strength of their towers.    \nStudents bring: Pencil\n\nMrs. Anna Humphries : Coral Reef Biomes \n\nOverview: Students will be focusing on aquatic biomes\, specifically coral reefs. We’ll be creating a collage while also learning about tints and how to go from light to dark and light sources. We’ll be using paint and pastels. \n Students bring: Pencil
URL:https://upstatecoop.org/event/gvl-middle-school-science-day-grades-6-8-2/
LOCATION:Grace Church – Taylors\, 2701 Wade Hampton Blvd.\, Greenville\, SC\, 29615\, United States
CATEGORIES:Greenville,Middle School
ORGANIZER;CN="Whitney Mckee":MAILTO:wmckee327@gmail.com
END:VEVENT
BEGIN:VEVENT
DTSTART;TZID=America/New_York:20241204T092000
DTEND;TZID=America/New_York:20241204T130000
DTSTAMP:20260421T074415
CREATED:20241009T132000Z
LAST-MODIFIED:20241014T185241Z
UID:10000825-1733304000-1733317200@upstatecoop.org
SUMMARY:RESCHEDULED SPT: 4th Grade: Roper Mountain Science Center Field Trip
DESCRIPTION:4th graders are invited to attend a field trip at Roper Mountain Science Center (RMSC) on Wednesday\, December 4\, 2024. Roper Mountain allows 3 chaperones per group. Chaperones are based on the timestamp of registration. Sign up on UHC website’s event calendar. Contact Liz Edmisten (eedmisten@gmail.com) with any questions! \nPlease have students wear their UHC shirts!
URL:https://upstatecoop.org/event/rescheduled-spt-4th-grade-roper-mountain-science-center-field-trip/
LOCATION:Private: Roper Mountain Science Center\, 402 Roper Mountain Road\, Greenville\, SC\, 29615\, United States
CATEGORIES:Field Trip,Spartanburg
ORGANIZER;CN="Elizabeth Edmisten":MAILTO:eedmisten@gmail.com
END:VEVENT
BEGIN:VEVENT
DTSTART;VALUE=DATE:20241205
DTEND;VALUE=DATE:20241206
DTSTAMP:20260421T074415
CREATED:20240405T011333Z
LAST-MODIFIED:20241114T171932Z
UID:10000638-1733356800-1733443199@upstatecoop.org
SUMMARY:SPT - High School Exams
DESCRIPTION:1st Hour Exam 9:30 – 11:30 \nLUNCH  11:30 – 12:30 \n2nd Hour Exam 12:30 – 2:30 \n*Only students taking exams should be on campus.  There is no focused study. \nExam details here
URL:https://upstatecoop.org/event/spt-hs-exams-5/
CATEGORIES:Class Schedule,Spartanburg,High School
ORGANIZER:MAILTO:opedersen@upstatecoop.org
END:VEVENT
BEGIN:VEVENT
DTSTART;VALUE=DATE:20241205
DTEND;VALUE=DATE:20241206
DTSTAMP:20260421T074415
CREATED:20240906T212621Z
LAST-MODIFIED:20240906T212621Z
UID:10000791-1733356800-1733443199@upstatecoop.org
SUMMARY:SPT HS Pajama Day
DESCRIPTION:High Schoolers roll out of bed in your favorite dress code approved PJ’s
URL:https://upstatecoop.org/event/spt-hs-pajama-day/
END:VEVENT
BEGIN:VEVENT
DTSTART;TZID=America/New_York:20241205T113000
DTEND;TZID=America/New_York:20241205T123000
DTSTAMP:20260421T074415
CREATED:20241118T163000Z
LAST-MODIFIED:20241121T020914Z
UID:10000889-1733398200-1733401800@upstatecoop.org
SUMMARY:SPT HS: Exam Eats: Crumbl Cookies
DESCRIPTION:Order an exam pick-me-up from Crumbl Cookies! Cookies will be delivered to campus during lunch on Thursday\, December 5th. Flavor selections include Milk Chocolate Chip\, Holiday Birthday Cake and Cookies and Cream Milkshake. Please submit your order with desired quantity and flavor selection. The cost is $5 per cookie\, PLEASE BRING EXACT CASH TO LUNCH ON THURSDAY\, DECEMBER 5TH. Please note that orders cannot be cancelled or altered. \nPlease see Crumbl Cookie website for nutrition and allergy information.
URL:https://upstatecoop.org/event/spt-hs-exam-eats-crumbl-cookies/
LOCATION:Church at the Mill – Spartanburg\, 4455 Anderson Mill Road\, Moore\, SC\, 29369\, United States
CATEGORIES:Spartanburg,High School
ORGANIZER;CN="Kirsten Emery":MAILTO:knicole36@gmail.com
END:VEVENT
BEGIN:VEVENT
DTSTART;TZID=America/New_York:20241206T093000
DTEND;TZID=America/New_York:20241206T133000
DTSTAMP:20260421T074415
CREATED:20240924T133000Z
LAST-MODIFIED:20241204T211344Z
UID:10000863-1733477400-1733491800@upstatecoop.org
SUMMARY:*Cancelled* Conestee Nature Preserve - Water Quality program
DESCRIPTION:*CANCELLED DUE TO WEATHER* Too cold!! The temps would be high 20’s when we arrived and not getting above mid 40s all day\, and it’s all outside. Possible reschedule later! \nStudents will walk the trails to the water with a certified guide to perform visual stream surveys\, chemical tests\, and collect aquatic invertebrates to determine the water quality of the Reedy River. Some of the historic information of Conestee will be covered as well. \n*They do offer the opportunity to wear boots and get in the water during the collection time. This isn’t necessary so students can choose whether or not they get in. There is no need to get wet besides feet. \n$10/student $5/adult. Please RSVP through UHC AND click the link to fill out the waivers\, see all info\, and buy your tickets through Conastee.  \nConastee link: https://www.tickettailor.com/events/conesteenaturepreserve/1462003 \nWHERE TO MEET \n840 Mauldin Rd.\, Greenville\, SC \nPlease park by the playground and large picnic shelter at Conestee Park. We will gather in the pavilion before beginning our program.
URL:https://upstatecoop.org/event/conestee-nature-preserve-water-quality-program/
LOCATION:Conestee Nature Preserve\, 840 Mauldin Rd.\, Greenville\, SC\, United States
CATEGORIES:Field Trip,Greenville,Middle School,High School
ORGANIZER;CN="Tabitha Dowswell":MAILTO:jayntab@gmail.com
END:VEVENT
BEGIN:VEVENT
DTSTART;TZID=America/New_York:20241206T130000
DTEND;TZID=America/New_York:20241206T150000
DTSTAMP:20260421T074415
CREATED:20240828T170000Z
LAST-MODIFIED:20240828T174951Z
UID:10000774-1733490000-1733497200@upstatecoop.org
SUMMARY:SPT K3 - 5th Grade - Christmas Gift Workshop at Paint-It-Up
DESCRIPTION:On Friday\, December 6th\, Spartanburg students in K3-5th Grade are invited to attend a workshop at Paint-It-Up in Chesnee to make a Christmas Gift for their parents. Students in K3-K5 will attend between 1 and 2 pm. A parent will need to stay and assist the child. This gift will take about 15 – 20 minutes\, so you can drop in anytime between 1 and 2 pm. \nStudents in grades 1 – 5 will attend the workshop from 2 -3 pm. This will be a drop off event if they would like to make it a surprise\, but you are welcome to stay if you choose. Parents can hang out with siblings at the small park in Chesnee or walk around this cute town. There is also a playground about 4 minutes away by car at 302 E. Manning St. Chesnee. \nCost is $15 per child and will be paid directly to Paint it up upon registration. Refunds will be issued directly by Paint-It-Up prior to 48 hours of the event\, if necessary Here is the Registration link: \nhttps://paintitupchesnee.com/collections/current-classes/products/uhc-christmas-gift-workshop-private-event
URL:https://upstatecoop.org/event/spt-k3-5th-grade-christmas-gift-workshop-at-paint-it-up/
CATEGORIES:Spartanburg,Elementary
ORGANIZER:MAILTO:opedersen@upstatecoop.org
END:VEVENT
BEGIN:VEVENT
DTSTART;VALUE=DATE:20241209
DTEND;VALUE=DATE:20241210
DTSTAMP:20260421T074415
CREATED:20240402T022119Z
LAST-MODIFIED:20241107T214406Z
UID:10000611-1733702400-1733788799@upstatecoop.org
SUMMARY:GVL - High School Exams
DESCRIPTION:3rd Hour Exam 9:30 – 11:30 \nLUNCH 11:30 – 12:30 \n4th Hour Exam 12:30 – 2:30 \n*Only students taking exams should be on campus.  There is no focused study.
URL:https://upstatecoop.org/event/gvl-high-school-exams-2/
CATEGORIES:Class Schedule,Greenville,High School
ORGANIZER:MAILTO:opedersen@upstatecoop.org
END:VEVENT
BEGIN:VEVENT
DTSTART;VALUE=DATE:20241210
DTEND;VALUE=DATE:20241211
DTSTAMP:20260421T074415
CREATED:20240405T011421Z
LAST-MODIFIED:20241114T172033Z
UID:10000639-1733788800-1733875199@upstatecoop.org
SUMMARY:SPT - HS Exams
DESCRIPTION:3rd Hour Exam 9:30 – 11:30 \nLUNCH 11:30 – 12:30 \n4th Hour Exam 12:30 – 2:30 \n*Only students taking exams should be on campus.  There is no focused study. \nExam details here
URL:https://upstatecoop.org/event/spt-hs-exams-6/
CATEGORIES:Class Schedule,Spartanburg,High School
ORGANIZER:MAILTO:opedersen@upstatecoop.org
END:VEVENT
BEGIN:VEVENT
DTSTART;TZID=America/New_York:20241210T120000
DTEND;TZID=America/New_York:20241210T130000
DTSTAMP:20260421T074415
CREATED:20241118T163000Z
LAST-MODIFIED:20241121T020322Z
UID:10000888-1733832000-1733835600@upstatecoop.org
SUMMARY:SPT HS: Exam Eats: Tropical Smoothie
DESCRIPTION:Order an exam refresher from Tropical Smoothie Cafe! Smoothies will be delivered to campus during lunch on Tuesday\, December 10th. Smoothie flavor selections include Sunrise Sunset\, Mango Magic\, Blueberry Bliss and Mocha Madness. Please submit your order with desired quantity and flavor selection. The cost is $9 per smoothie. PLEASE BRING EXACT CASH TO LUNCH ON TUESDAY\, DECEMBER 10TH. Please note that orders are for smoothies only and they will be made as listed on Tropical Smoothie’s website. Unfortunately\, due to the volume of our order\, we are unable to accept any requests for order alterations. Please also note that orders are cannot be cancelled or altered once submitted. \nPlease see Tropical Smoothie Cafe’s website for nutrition and allergy information.
URL:https://upstatecoop.org/event/spt-hs-exam-eats-tropical-smoothie/
LOCATION:Church at the Mill – Spartanburg\, 4455 Anderson Mill Road\, Moore\, SC\, 29369\, United States
CATEGORIES:Spartanburg,High School
ORGANIZER;CN="Kirsten Emery":MAILTO:knicole36@gmail.com
END:VEVENT
BEGIN:VEVENT
DTSTART;VALUE=DATE:20241211
DTEND;VALUE=DATE:20241212
DTSTAMP:20260421T074415
CREATED:20240402T022227Z
LAST-MODIFIED:20241107T214835Z
UID:10000612-1733875200-1733961599@upstatecoop.org
SUMMARY:GVL - Make-up Exam Day
DESCRIPTION:
URL:https://upstatecoop.org/event/gvl-make-up-exam-day/
CATEGORIES:Class Schedule,Greenville,High School
ORGANIZER:MAILTO:opedersen@upstatecoop.org
END:VEVENT
BEGIN:VEVENT
DTSTART;VALUE=DATE:20241212
DTEND;VALUE=DATE:20241213
DTSTAMP:20260421T074415
CREATED:20241114T172310Z
LAST-MODIFIED:20241114T172430Z
UID:10000880-1733961600-1734047999@upstatecoop.org
SUMMARY:SPT HS Exam Make-Up Day
DESCRIPTION:All make-up exams 9:30-11:30 \nExam details here
URL:https://upstatecoop.org/event/spt-hs-exam-make-up-day/
ORGANIZER:MAILTO:opedersen@upstatecoop.org
END:VEVENT
BEGIN:VEVENT
DTSTART;TZID=America/New_York:20241218T130000
DTEND;TZID=America/New_York:20241218T150000
DTSTAMP:20260421T074415
CREATED:20241201T180000Z
LAST-MODIFIED:20241203T205524Z
UID:10000890-1734526800-1734534000@upstatecoop.org
SUMMARY:GVL Middle School Scavenger Hunt
DESCRIPTION:Join us for a Christmas scavenger hunt in downtown Greer\, we will meet at the Greer City Park shelter/playground and create our groups for the hunt.\nWe will need many chaperones to help lead the groups\, please indicate if you can chaperone when you sign up. \nDue to the nature of our event\, no siblings will be allowed. \nPlease bring a snack to share!!
URL:https://upstatecoop.org/event/gvl-middle-school-scavenger-hunt/
LOCATION:Greer City Park\, 301 E Poinsett St\, Greer\, 29651\, United States
CATEGORIES:Greenville,Middle School Social,Middle School
ORGANIZER;CN="Sara Merrell":MAILTO:saramerrell80@gmail.com
END:VEVENT
BEGIN:VEVENT
DTSTART;VALUE=DATE:20250106
DTEND;VALUE=DATE:20250107
DTSTAMP:20260421T074415
CREATED:20240402T022446Z
LAST-MODIFIED:20240402T022446Z
UID:10000613-1736121600-1736207999@upstatecoop.org
SUMMARY:GVL - 2nd Semester Classes Begin
DESCRIPTION:
URL:https://upstatecoop.org/event/gvl-2nd-semester-classes-begin/
CATEGORIES:Class Schedule,Greenville,Elementary,Middle School,High School
ORGANIZER:MAILTO:opedersen@upstatecoop.org
END:VEVENT
BEGIN:VEVENT
DTSTART;VALUE=DATE:20250107
DTEND;VALUE=DATE:20250108
DTSTAMP:20260421T074415
CREATED:20240405T011558Z
LAST-MODIFIED:20240405T011558Z
UID:10000640-1736208000-1736294399@upstatecoop.org
SUMMARY:SPT - Classes Begin for 2nd Semester
DESCRIPTION:
URL:https://upstatecoop.org/event/spt-classes-begin-for-2nd-semester/
CATEGORIES:Class Schedule,Spartanburg,Elementary,Middle School,High School
ORGANIZER:MAILTO:opedersen@upstatecoop.org
END:VEVENT
BEGIN:VEVENT
DTSTART;VALUE=DATE:20250113
DTEND;VALUE=DATE:20250114
DTSTAMP:20260421T074415
CREATED:20240525T201645Z
LAST-MODIFIED:20241111T035014Z
UID:10000673-1736726400-1736812799@upstatecoop.org
SUMMARY:GVL Elementary Hot Chocolate (Green Cedar & Yellow Birch)
DESCRIPTION:UHC Student Government will be providing hot chocolate to Elementary students in Green Cedar and Yellow Birch classes on January 13th\, 2025! Our dairy free/vegan students will have the option of Double Donut Dairy Free Vegan Hot Chocolate mix.  If your student has an allergy and should NOT drink either option of hot chocolate\, please let Abby Williams know directly. \n 
URL:https://upstatecoop.org/event/elementary-hot-chocolate-2/
LOCATION:Hampton Heights Baptist Church\, 2511 Wade Hampton Boulevard\, Greenville\, SC\, 29615\, United States
CATEGORIES:Greenville,Elementary
ORGANIZER;CN="Abby Williams":MAILTO:awilliams@upstatecoop.org
END:VEVENT
BEGIN:VEVENT
DTSTART;TZID=America/New_York:20250113T110000
DTEND;TZID=America/New_York:20250113T130000
DTSTAMP:20260421T074415
CREATED:20240907T192506Z
LAST-MODIFIED:20241230T020157Z
UID:10000734-1736766000-1736773200@upstatecoop.org
SUMMARY:GVL Chick-Fil-A Lunch
DESCRIPTION:>>>ALL ORDERS ARE FINAL and no changes or refunds will be issued after the deadline: Friday January 10th at 1:00pm.<<< \nYou should receive an email confirming your order details and date. If you do not\, please contact Christina Snover\, UHCCFA.Snover@gmail.com\, ASAP. \nClick here for more information and instructions\, including the Salad Option for Adults Only. \nThe order form for the 1/13 lunch is located at the bottom of this page. If you would like to preorder and pay for any of the following dates\, you may do so by clicking on each of the following dates on the calendar: Wed\, 1/29; Mon\, 2/10; Wed\, 2/26; Mon\, 3/10; Wed\, 4/2. Lunch for each date must be ordered and paid for separately. Please include all your family’s order for the same date on one order form.\nThis is a SENIOR CLASS FUNDRAISER. Thank you for your support!!! \nSorry. This form is no longer available.
URL:https://upstatecoop.org/event/gvl-chick-fil-a-1-13-25/
CATEGORIES:Greenville,Chick-fil-A
ORGANIZER;CN="Christina Snover":MAILTO:uhccfa.snover@gmail.com
END:VEVENT
BEGIN:VEVENT
DTSTART;TZID=America/New_York:20250113T113000
DTEND;TZID=America/New_York:20250113T123000
DTSTAMP:20260421T074415
CREATED:20241217T163000Z
LAST-MODIFIED:20241219T012931Z
UID:10000892-1736767800-1736771400@upstatecoop.org
SUMMARY:SPT: K3-2nd - Bubbles\, Bubbles and more Bubbles
DESCRIPTION:Your K3 – 2nd Grade children will love learning about Bubbles – Bubble Art\, Bubble Science and Bubble Wand Making at the Spartanburg Main Library downtown. \nThis Program is on Monday\, January 13th from 11:30 to 12:30. There is no cost for this program and siblings are welcome. Please include siblings K3 and older in the total count for your family. \nThis event is exclusively for UHC Spartanburg members. There is a maximum number of reservations available\, so register today. \nThe Spartanburg Library address is: 151 South Church St. Spartanburg 29306.
URL:https://upstatecoop.org/event/spt-k3-2nd-bubbles-bubbles-and-more-bubbles/
LOCATION:Spartanburg Library\, 151 South Church St\, Spartanburg\, Sc\, 29306
CATEGORIES:Spartanburg,Elementary
ORGANIZER;CN="Valerie Forsberg":MAILTO:vaforsberg@gmail.com
END:VEVENT
BEGIN:VEVENT
DTSTART;TZID=America/New_York:20250113T144500
DTEND;TZID=America/New_York:20250113T160000
DTSTAMP:20260421T074415
CREATED:20240715T162114Z
LAST-MODIFIED:20240715T162114Z
UID:10000695-1736779500-1736784000@upstatecoop.org
SUMMARY:Sr Beta Club Meeting
DESCRIPTION:Meeting will be held in the MPR.
URL:https://upstatecoop.org/event/sr-beta-club-meeting-11/
CATEGORIES:Greenville,Spartanburg
ORGANIZER;CN="Tonya Dymond":MAILTO:uhcseniorbetaclub@gmail.com
END:VEVENT
BEGIN:VEVENT
DTSTART;TZID=America/New_York:20250113T144500
DTEND;TZID=America/New_York:20250113T160000
DTSTAMP:20260421T074415
CREATED:20240716T011205Z
LAST-MODIFIED:20240716T011205Z
UID:10000698-1736779500-1736784000@upstatecoop.org
SUMMARY:Jr Beta Club Meeting
DESCRIPTION:
URL:https://upstatecoop.org/event/jr-beta-club-meeting-8/
LOCATION:Room 213 A
CATEGORIES:Middle School
ORGANIZER;CN="Whitney Mckee":MAILTO:wmckee327@gmail.com
END:VEVENT
BEGIN:VEVENT
DTSTART;TZID=America/New_York:20250114T080000
DTEND;TZID=America/New_York:20250114T170000
DTSTAMP:20260421T074415
CREATED:20250114T192639Z
LAST-MODIFIED:20250114T192657Z
UID:10000918-1736841600-1736874000@upstatecoop.org
SUMMARY:GVL and SPT Jr/ Sr Prom
DESCRIPTION:More details coming soon!
URL:https://upstatecoop.org/event/jr-sr-prom/
ORGANIZER:MAILTO:opedersen@upstatecoop.org
END:VEVENT
BEGIN:VEVENT
DTSTART;VALUE=DATE:20250115
DTEND;VALUE=DATE:20250116
DTSTAMP:20260421T074415
CREATED:20240525T201441Z
LAST-MODIFIED:20241111T035012Z
UID:10000672-1736899200-1736985599@upstatecoop.org
SUMMARY:GVL Elementary Hot Chocolate (Red Oak & Blue Spruce)
DESCRIPTION:UHC Student Government will be providing hot chocolate to Elementary students in Red Oak and Blue Spruce classes on January 15th\, 2025!  Our dairy free/vegan students will have the option of Double Donut Dairy Free Vegan Hot Chocolate mix.  If your student has an allergy and should NOT drink either option of hot chocolate\, please let Abby Williams know directly. \n 
URL:https://upstatecoop.org/event/elementary-hot-chocolate/
LOCATION:Hampton Heights Baptist Church\, 2511 Wade Hampton Boulevard\, Greenville\, SC\, 29615\, United States
CATEGORIES:Greenville,Elementary
ORGANIZER;CN="Abby Williams":MAILTO:awilliams@upstatecoop.org
END:VEVENT
BEGIN:VEVENT
DTSTART;VALUE=DATE:20250115
DTEND;VALUE=DATE:20250116
DTSTAMP:20260421T074415
CREATED:20250107T173217Z
LAST-MODIFIED:20250107T173336Z
UID:10000898-1736899200-1736985599@upstatecoop.org
SUMMARY:All Grades Matchy Matchy Day (GVL)
DESCRIPTION:Grab a group of friends and dress to match one another! \n*all attire must follow dress code
URL:https://upstatecoop.org/event/matchy-matchy-day-gvl/
ORGANIZER:MAILTO:opedersen@upstatecoop.org
END:VEVENT
BEGIN:VEVENT
DTSTART;VALUE=DATE:20250115
DTEND;VALUE=DATE:20250116
DTSTAMP:20260421T074415
CREATED:20250107T175442Z
LAST-MODIFIED:20250211T171329Z
UID:10000902-1736899200-1736985599@upstatecoop.org
SUMMARY:Renew (HS only GVL)
DESCRIPTION: Join us during lunch in the MPR for a time of music\, teaching\, and prayer.
URL:https://upstatecoop.org/event/renew-hs-only-gvl/2025-01-15/
ORGANIZER:MAILTO:opedersen@upstatecoop.org
END:VEVENT
BEGIN:VEVENT
DTSTART;TZID=America/New_York:20250115T100000
DTEND;TZID=America/New_York:20250115T120000
DTSTAMP:20260421T074415
CREATED:20240917T140000Z
LAST-MODIFIED:20241106T232435Z
UID:10000868-1736935200-1736942400@upstatecoop.org
SUMMARY:SPT: 3rd-5th - Media & Radio Technology Tour
DESCRIPTION:This Field Trip for Spartanburg 3rd thru 5th graders (only) will take place on Wednesday\, January 15th at 10:00 am. This is a 2 hour (drop off) tour about Faith and Technology. This will include information regarding televison production and Alight Ministry. It also includes a tour of the broadcast studio for Z Radio\, both at First Baptist Spartanburg\, 250 East Main Street\, 29306. \nThis is sure to be a fun\, informative tour led by Britt Dillard. There is no cost for this field trip\, but space is limited\, so sign up today. We will need 3 chaperones\, but siblings cannot attend due to space constraints. Please plan to arrive by 9:50 so we can start promptly at 10 am. We will meet at the Welcome Center in back of the main church\, across from Barnett Park.
URL:https://upstatecoop.org/event/spt-3rd-5th-grade-media-and-radio-technology-tour/
LOCATION:First Baptist Spartanburg\, 250 E Main St\, Spartanburg\, SC\, 29306
CATEGORIES:Spartanburg,Elementary
ORGANIZER;CN="Valerie Forsberg":MAILTO:vaforsberg@gmail.com
END:VEVENT
BEGIN:VEVENT
DTSTART;VALUE=DATE:20250116
DTEND;VALUE=DATE:20250117
DTSTAMP:20260421T074415
CREATED:20250107T143839Z
LAST-MODIFIED:20250107T143839Z
UID:10000897-1736985600-1737071999@upstatecoop.org
SUMMARY:SPT Matchy Match Day (all grades)
DESCRIPTION:Dress with a group of friends to match each other!
URL:https://upstatecoop.org/event/spt-matchy-match-day-all-grades/
CATEGORIES:Spartanburg,Elementary,Middle School,High School
ORGANIZER:MAILTO:opedersen@upstatecoop.org
END:VEVENT
BEGIN:VEVENT
DTSTART;TZID=America/New_York:20250116T110000
DTEND;TZID=America/New_York:20250116T130000
DTSTAMP:20260421T074415
CREATED:20240910T000909Z
LAST-MODIFIED:20250106T032000Z
UID:10000798-1737025200-1737032400@upstatecoop.org
SUMMARY:SPT Chick-Fil-A Lunch
DESCRIPTION:>>>ALL ORDERS ARE FINAL and no changes or refunds will be issued after the deadline: Monday January 13th at 1:00pm.<<< \nYou should receive an email confirming your order details and date. If you do not\, please contact Kristi Bowen\, uhcsptcfa.bowen@gmail.com\, ASAP. \nClick here for more information and instructions\, including the Salad Option for Adults Only. \nThe order form for the 1/16 lunch is located at the bottom of this page. \nIf you would like to preorder and pay for any of the following dates\, you may do so by clicking on each of the following dates on the calendar: Thurs 1/30\, Thurs 2/13\, Thurs 2/27\, Thurs 3/13\, Thurs 4/3. Lunch for each date must be ordered and paid for separately. Please include all your family’s order for the same date on one order form. \nSorry. This form is no longer available.
URL:https://upstatecoop.org/event/spt-chick-fil-a-1-16-25/
LOCATION:Church at the Mill – Spartanburg\, 4455 Anderson Mill Road\, Moore\, SC\, 29369\, United States
CATEGORIES:Spartanburg,Chick-fil-A
ORGANIZER;CN="Kristi Bowen":MAILTO:uhcsptcfa.bowen@gmail.com
END:VEVENT
BEGIN:VEVENT
DTSTART;TZID=America/New_York:20250116T110000
DTEND;TZID=America/New_York:20250116T130000
DTSTAMP:20260421T074415
CREATED:20241111T160000Z
LAST-MODIFIED:20241125T171144Z
UID:10000874-1737025200-1737032400@upstatecoop.org
SUMMARY:GVL: Zip N Slip Snow Tubing
DESCRIPTION:Join us for 2 hours of tubing at Zip N Slip in NC on Thursday\, January 16 from 11-1. We will have the whole snow park to ourselves! Each ticket is only $15 per person due to a HUGE homeschool discount! Children ages 3-5 are free with a paying adult. Children under the age of 3 are not allowed down the slope due to their insurance regulations. The facility has large snow makers so the event will still be on even in an unseasonably warm January day. Bring a change of clothing just in case. After tubing\, they provide marshmallows to roast. They do have chocolate bars for sale or you’re welcome to bring your own goodies to make a full s’more. Feel free to pack a lunch but don’t worry about bringing anything other than water. They have the best homemade hot chocolate (cocoa\, sugar\, milk) and cider in the WNC. The facility takes “all forms of payment.” Payment will be due on site when you arrive. We just need a headcount of who is attending\, feel free to bring friends! \nPlease fill out this waiver prior to attending: https://zipnslip.com/waiver/ \nAndy\, the owner of Zip n Slip\, also says that he is happy to distribute any donations we bring for the WNC relief efforts. I’d love if we could bless the area with any winter gear (new/gently used) for him to pass out to his neighbors and churches that have been affected by the flooding.
URL:https://upstatecoop.org/event/gvl-zip-n-slip-snow-tubing/
LOCATION:Zip and Slip
CATEGORIES:Greenville,Group Get-Together,High School Social,Middle School Social,Elementary,Middle School,High School
ORGANIZER;CN="Jen Moody":MAILTO:mrstylermoody@gmail.com
END:VEVENT
BEGIN:VEVENT
DTSTART;TZID=America/New_York:20250120T094500
DTEND;TZID=America/New_York:20250120T113000
DTSTAMP:20260421T074415
CREATED:20240724T174213Z
LAST-MODIFIED:20240724T195107Z
UID:10000704-1737366300-1737372600@upstatecoop.org
SUMMARY:UHC Open House (GVL Campuses)
DESCRIPTION:Join us for Open House to learn about UHC and tour our Greenville campuses.\n  \nUHC has two GVL campuses located approximately 2 minutes away from each other: \n\nGrace Church\, Taylors:  hosts our GVL 6th – 12th grade programs\nHampton Heights Baptist Church:  hosts our K3 – 5th grade Elementary program\n\nOur Open House event will begin at Hampton Heights Baptist Church for a general info session pertaining to all\, and then campus tours will be given at both GVL campus locations listed above.   \nHigh School and Middle School students are welcome to attend the Open House event and tour with a parent\, but we ask that you find alternate childcare for your Elementary and younger aged children (unless you have a baby who needs to be with you). \nCheck in and the General Meeting will be held in the Sanctuary of Hampton Heights Baptist Church.   Please follow the instructions for Visitor Parking at our Hampton Heights campus. \nOpen House Schedule: \n\n9:30 – 9:45am:  Check-In in the Sanctuary at Hampton Heights Baptist Church\n9:45  – 10:45am:  General Info Session\n10:45am – 11:45am:  Campus Tours at both Hampton Heights (Elementary) and Grace Church (Middle & High School)
URL:https://upstatecoop.org/event/uhc-open-house-gvl-campuses-4/
LOCATION:Hampton Heights Baptist Church\, 2511 Wade Hampton Boulevard\, Greenville\, SC\, 29615\, United States
CATEGORIES:Enrollment,Greenville
ORGANIZER;CN="Anastasia Pishchenko":MAILTO:apishchenko@upstatecoop.org
END:VEVENT
END:VCALENDAR