BEGIN:VCALENDAR
VERSION:2.0
PRODID:-//Upstate Homeschool Co-op - ECPv6.15.20//NONSGML v1.0//EN
CALSCALE:GREGORIAN
METHOD:PUBLISH
X-WR-CALNAME:Upstate Homeschool Co-op
X-ORIGINAL-URL:https://upstatecoop.org
X-WR-CALDESC:Events for Upstate Homeschool Co-op
REFRESH-INTERVAL;VALUE=DURATION:PT1H
X-Robots-Tag:noindex
X-PUBLISHED-TTL:PT1H
BEGIN:VTIMEZONE
TZID:America/New_York
BEGIN:DAYLIGHT
TZOFFSETFROM:-0500
TZOFFSETTO:-0400
TZNAME:EDT
DTSTART:20220313T070000
END:DAYLIGHT
BEGIN:STANDARD
TZOFFSETFROM:-0400
TZOFFSETTO:-0500
TZNAME:EST
DTSTART:20221106T060000
END:STANDARD
BEGIN:DAYLIGHT
TZOFFSETFROM:-0500
TZOFFSETTO:-0400
TZNAME:EDT
DTSTART:20230312T070000
END:DAYLIGHT
BEGIN:STANDARD
TZOFFSETFROM:-0400
TZOFFSETTO:-0500
TZNAME:EST
DTSTART:20231105T060000
END:STANDARD
BEGIN:DAYLIGHT
TZOFFSETFROM:-0500
TZOFFSETTO:-0400
TZNAME:EDT
DTSTART:20240310T070000
END:DAYLIGHT
BEGIN:STANDARD
TZOFFSETFROM:-0400
TZOFFSETTO:-0500
TZNAME:EST
DTSTART:20241103T060000
END:STANDARD
BEGIN:DAYLIGHT
TZOFFSETFROM:-0500
TZOFFSETTO:-0400
TZNAME:EDT
DTSTART:20250309T070000
END:DAYLIGHT
BEGIN:STANDARD
TZOFFSETFROM:-0400
TZOFFSETTO:-0500
TZNAME:EST
DTSTART:20251102T060000
END:STANDARD
END:VTIMEZONE
BEGIN:VEVENT
DTSTART;TZID=America/New_York:20240212T080000
DTEND;TZID=America/New_York:20240212T143000
DTSTAMP:20260422T043328
CREATED:20240128T175314Z
LAST-MODIFIED:20240203T192339Z
UID:10000559-1707724800-1707748200@upstatecoop.org
SUMMARY:Jr. Beta Club Bake Sale GVL
DESCRIPTION:The Jr. Beta Club will be selling baked goods on Monday\, Feb. 12th during lunch and all breaks at the Grace Campus.  All items will be $1. \nThe Jr. Beta Club will also be selling baked goods at lunch for 3rd-5th graders at the Hampton Heights Campus. All items will be $1.
URL:https://upstatecoop.org/event/jr-beta-club-bake-sale-gvl/
LOCATION:Grace Church – Taylors\, 2701 Wade Hampton Blvd.\, Greenville\, SC\, 29615\, United States
ORGANIZER;CN="Karla Partin":MAILTO:karlakpartin@gmail.com
END:VEVENT
BEGIN:VEVENT
DTSTART;TZID=America/New_York:20240311T144500
DTEND;TZID=America/New_York:20240311T160000
DTSTAMP:20260422T043328
CREATED:20230809T014242Z
LAST-MODIFIED:20230809T014242Z
UID:10000345-1710168300-1710172800@upstatecoop.org
SUMMARY:Jr Beta Club Meeting
DESCRIPTION:
URL:https://upstatecoop.org/event/jr-beta-club-meeting-5/
LOCATION:Room 213 A
CATEGORIES:Greenville
ORGANIZER;CN="Karla Partin":MAILTO:karlakpartin@gmail.com
END:VEVENT
BEGIN:VEVENT
DTSTART;TZID=America/New_York:20240212T144500
DTEND;TZID=America/New_York:20240212T160000
DTSTAMP:20260422T043328
CREATED:20230809T014117Z
LAST-MODIFIED:20230809T014117Z
UID:10000344-1707749100-1707753600@upstatecoop.org
SUMMARY:Jr Beta Club Meeting
DESCRIPTION:
URL:https://upstatecoop.org/event/jr-beta-club-meeting-4/
LOCATION:Room 213 A
CATEGORIES:Greenville
ORGANIZER;CN="Karla Partin":MAILTO:karlakpartin@gmail.com
END:VEVENT
BEGIN:VEVENT
DTSTART;TZID=America/New_York:20240115T144500
DTEND;TZID=America/New_York:20240115T160000
DTSTAMP:20260422T043328
CREATED:20230809T013954Z
LAST-MODIFIED:20230809T013954Z
UID:10000343-1705329900-1705334400@upstatecoop.org
SUMMARY:Jr Beta Club Meeting
DESCRIPTION:
URL:https://upstatecoop.org/event/jr-beta-club-meeting-3/
LOCATION:Room 213 A
CATEGORIES:Greenville
ORGANIZER;CN="Karla Partin":MAILTO:karlakpartin@gmail.com
END:VEVENT
BEGIN:VEVENT
DTSTART;TZID=America/New_York:20231113T144500
DTEND;TZID=America/New_York:20231113T160000
DTSTAMP:20260422T043328
CREATED:20230809T013735Z
LAST-MODIFIED:20230809T013754Z
UID:10000342-1699886700-1699891200@upstatecoop.org
SUMMARY:Jr Beta Club Meeting
DESCRIPTION:
URL:https://upstatecoop.org/event/8545/
LOCATION:Room 213 A
CATEGORIES:Greenville
ORGANIZER;CN="Karla Partin":MAILTO:karlakpartin@gmail.com
END:VEVENT
BEGIN:VEVENT
DTSTART;TZID=America/New_York:20231009T144500
DTEND;TZID=America/New_York:20231009T160000
DTSTAMP:20260422T043328
CREATED:20230809T013445Z
LAST-MODIFIED:20230809T013445Z
UID:10000341-1696862700-1696867200@upstatecoop.org
SUMMARY:Jr Beta Club Meeting
DESCRIPTION:
URL:https://upstatecoop.org/event/jr-beta-club-meeting-2/
LOCATION:Room 213 A
CATEGORIES:Greenville
ORGANIZER;CN="Karla Partin":MAILTO:karlakpartin@gmail.com
END:VEVENT
BEGIN:VEVENT
DTSTART;TZID=America/New_York:20230918T144500
DTEND;TZID=America/New_York:20230918T160000
DTSTAMP:20260422T043328
CREATED:20230809T012640Z
LAST-MODIFIED:20230811T152709Z
UID:10000338-1695048300-1695052800@upstatecoop.org
SUMMARY:Jr Beta Club Meeting
DESCRIPTION:September meeting and induction of new members.  Parents are invited.  Meeting will be held in the Worship Center.
URL:https://upstatecoop.org/event/jr-beta-club-meeting/
LOCATION:Grace Church – Taylors\, 2701 Wade Hampton Blvd.\, Greenville\, SC\, 29615\, United States
CATEGORIES:Greenville
ORGANIZER;CN="Karla Partin":MAILTO:karlakpartin@gmail.com
END:VEVENT
BEGIN:VEVENT
DTSTART;TZID=America/New_York:20230815T140000
DTEND;TZID=America/New_York:20230815T160000
DTSTAMP:20260422T043328
CREATED:20230405T184046Z
LAST-MODIFIED:20230703T200249Z
UID:10000231-1692108000-1692115200@upstatecoop.org
SUMMARY:SPT Middle (Gr. 7-8) & High School Student & Parent Orientation
DESCRIPTION:Click HERE: UHC Middle (Gr. 7-8) & High School Orientation\, Spartanburg Campus\, Details and Schedule
URL:https://upstatecoop.org/event/spt-7th-8th-grade-student-parent-ms-orientation/
LOCATION:Church at the Mill – Spartanburg\, 4455 Anderson Mill Road\, Moore\, SC\, 29369\, United States
CATEGORIES:Spartanburg
ORGANIZER;CN="Karla Partin":MAILTO:karlakpartin@gmail.com
END:VEVENT
BEGIN:VEVENT
DTSTART;TZID=America/New_York:20230828T100000
DTEND;TZID=America/New_York:20230828T120000
DTSTAMP:20260422T043328
CREATED:20230328T004932Z
LAST-MODIFIED:20230527T194740Z
UID:10000216-1693216800-1693224000@upstatecoop.org
SUMMARY:GVL Mandatory Orientation for 6th-grade Parents and Students
DESCRIPTION:Click HERE: UHC 6th Grade Orientation\, Greenville Campus\, Details and Schedule
URL:https://upstatecoop.org/event/gvl-mandatory-orientation-for-6th-grade-parents-and-students/
LOCATION:Grace Church – Taylors\, 2701 Wade Hampton Blvd.\, Greenville\, SC\, 29615\, United States
CATEGORIES:Greenville
ORGANIZER;CN="Karla Partin":MAILTO:karlakpartin@gmail.com
END:VEVENT
BEGIN:VEVENT
DTSTART;TZID=America/New_York:20230814T130000
DTEND;TZID=America/New_York:20230814T160000
DTSTAMP:20260422T043328
CREATED:20230328T004628Z
LAST-MODIFIED:20230621T133558Z
UID:10000214-1692018000-1692028800@upstatecoop.org
SUMMARY:GVL Mandatory Orientation: 7th-12th grade
DESCRIPTION:1:00-1:30: Parents invited to visit teachers in classrooms \n1:15-3:45: Student Orientation (students only due to space limitations) \n3:30-4:00: Parents invited to visit teachers in classrooms \nClick HERE: UHC 7th/8th GVL Orientation\, Details and Schedule
URL:https://upstatecoop.org/event/gvl-mandatory-orientation-7-12th-grade/
LOCATION:Grace Church – Taylors\, 2701 Wade Hampton Blvd.\, Greenville\, SC\, 29615\, United States
CATEGORIES:Greenville
ORGANIZER;CN="Karla Partin":MAILTO:karlakpartin@gmail.com
END:VEVENT
BEGIN:VEVENT
DTSTART;TZID=America/New_York:20230824T090000
DTEND;TZID=America/New_York:20230824T121500
DTSTAMP:20260422T043328
CREATED:20230312T214840Z
LAST-MODIFIED:20230619T215244Z
UID:10000212-1692867600-1692879300@upstatecoop.org
SUMMARY:SPT UHC Parent Training Seminar for IEW Writing Courses 2023
DESCRIPTION:This training seminar is mandatory for parents enrolling students in the following Institute for Excellence in Writing courses at UHC: \n\n3rd Grade IEW\n4th Grade IEW\n5th Grade IEW\nIEW 1\, 6th Grade for Sixth Graders new to UHC\nIEW 1\, 7th-8th Grade for Seventh or Eighth Graders new to UHC\n\nThe UHC Parent Training Seminar for IEW writing courses at UHC is 3 hours long and includes a combination of a recorded training and live Q&A sessions. IEW’s founder\, Andrew Pudewa\, introduces the Teaching Writing: Structure and Style method of teaching writing briefly covering the nine units of structure and introducing several stylistic techniques. Participants will gain insight into why this method is so effective in teaching even the most reluctant writer. UHC Staff and IEW teachers will provide live Q&A sessions where they will explain how UHC applies IEW’s structure and style models in our writing classes. UHC staff and teachers will also offer parents the opportunity to ask questions and share input. \nThis seminar will be held at The Church at the Mill campus of UHC\, in the Student Center. \nFind More Details: UHC Parent Training for IEW Writing Courses \nMaterials and Fees: Each attendee will need the handbook Teaching Writing: Structure and Style\, Second Edition. This resource is available at the IEW website or at Lifelong Learning Resources for $35. Please purchase the handbook before the workshop and bring it with you to the training. \nCost: The cost of the workshop is $15 for UHC members. You may Venmo @Karla-Partin or pay cash or check payable to Karla Partin at the event. \nIf you have questions about this seminar\, email Karla Partin at kpartin@upstatecoop.org
URL:https://upstatecoop.org/event/spt-uhc-parent-training-seminar-for-iew-writing-courses-2023/
LOCATION:Church at the Mill – Spartanburg\, 4455 Anderson Mill Road\, Moore\, SC\, 29369\, United States
ORGANIZER;CN="Karla Partin":MAILTO:karlakpartin@gmail.com
END:VEVENT
END:VCALENDAR