BEGIN:VCALENDAR
VERSION:2.0
PRODID:-//Upstate Homeschool Co-op - ECPv6.15.20//NONSGML v1.0//EN
CALSCALE:GREGORIAN
METHOD:PUBLISH
X-ORIGINAL-URL:https://upstatecoop.org
X-WR-CALDESC:Events for Upstate Homeschool Co-op
REFRESH-INTERVAL;VALUE=DURATION:PT1H
X-Robots-Tag:noindex
X-PUBLISHED-TTL:PT1H
BEGIN:VTIMEZONE
TZID:America/New_York
BEGIN:DAYLIGHT
TZOFFSETFROM:-0500
TZOFFSETTO:-0400
TZNAME:EDT
DTSTART:20220313T070000
END:DAYLIGHT
BEGIN:STANDARD
TZOFFSETFROM:-0400
TZOFFSETTO:-0500
TZNAME:EST
DTSTART:20221106T060000
END:STANDARD
BEGIN:DAYLIGHT
TZOFFSETFROM:-0500
TZOFFSETTO:-0400
TZNAME:EDT
DTSTART:20230312T070000
END:DAYLIGHT
BEGIN:STANDARD
TZOFFSETFROM:-0400
TZOFFSETTO:-0500
TZNAME:EST
DTSTART:20231105T060000
END:STANDARD
BEGIN:DAYLIGHT
TZOFFSETFROM:-0500
TZOFFSETTO:-0400
TZNAME:EDT
DTSTART:20240310T070000
END:DAYLIGHT
BEGIN:STANDARD
TZOFFSETFROM:-0400
TZOFFSETTO:-0500
TZNAME:EST
DTSTART:20241103T060000
END:STANDARD
END:VTIMEZONE
BEGIN:VEVENT
DTSTART;TZID=America/New_York:20230914T130000
DTEND;TZID=America/New_York:20230914T150000
DTSTAMP:20260419T083802
CREATED:20230825T013846Z
LAST-MODIFIED:20230914T022152Z
UID:10000358-1694696400-1694703600@upstatecoop.org
SUMMARY:Free SAT Workshop at BJU
DESCRIPTION:FREE SAT WORKSHOP \nPLEASE NOTE:  THIS WORKSHOP IS HOSTED BY BJU EXCLUSIVELY FOR UHC STUDENTS.  THIS IS NOT A UHC EVENT.  UHC CHAPERONES WILL NOT BE ATTENDING.  THE EVENT HOST IS A BJU EMPLOYEE\, NOT AFFILIATED WITH UHC. \nAre you interested in raising your student’s math test scores?\nBJU’s Math Team is offering a 2-hour workshop for 10-12th graders to prepare them for the math portion of the SAT.  The workshop covers Algebra\, Geometry\, and Trigonometry. \nYour RSVP below is required if any updates need to be communicated. \nPlease bring a laptop or tablet for the practice test. \nDate: Thursday\, September 14\nTime: 1-3pm\nLocation: Bob Jones University. Room 101 in the Fine Arts building. \n 
URL:https://upstatecoop.org/event/free-sat-workshop-at-bju/
LOCATION:Bob Jones University\, West Dr\, Greenville\, SC\, 29614\, United States
CATEGORIES:Greenville,High School Social,Spartanburg
ORGANIZER;CN="MIRANDA DETANDT":MAILTO:mdetandt@bju.edu
END:VEVENT
END:VCALENDAR