BEGIN:VCALENDAR
VERSION:2.0
PRODID:-//Upstate Homeschool Co-op - ECPv6.15.20//NONSGML v1.0//EN
CALSCALE:GREGORIAN
METHOD:PUBLISH
X-WR-CALNAME:Upstate Homeschool Co-op
X-ORIGINAL-URL:https://upstatecoop.org
X-WR-CALDESC:Events for Upstate Homeschool Co-op
REFRESH-INTERVAL;VALUE=DURATION:PT1H
X-Robots-Tag:noindex
X-PUBLISHED-TTL:PT1H
BEGIN:VTIMEZONE
TZID:America/New_York
BEGIN:DAYLIGHT
TZOFFSETFROM:-0500
TZOFFSETTO:-0400
TZNAME:EDT
DTSTART:20220313T070000
END:DAYLIGHT
BEGIN:STANDARD
TZOFFSETFROM:-0400
TZOFFSETTO:-0500
TZNAME:EST
DTSTART:20221106T060000
END:STANDARD
BEGIN:DAYLIGHT
TZOFFSETFROM:-0500
TZOFFSETTO:-0400
TZNAME:EDT
DTSTART:20230312T070000
END:DAYLIGHT
BEGIN:STANDARD
TZOFFSETFROM:-0400
TZOFFSETTO:-0500
TZNAME:EST
DTSTART:20231105T060000
END:STANDARD
BEGIN:DAYLIGHT
TZOFFSETFROM:-0500
TZOFFSETTO:-0400
TZNAME:EDT
DTSTART:20240310T070000
END:DAYLIGHT
BEGIN:STANDARD
TZOFFSETFROM:-0400
TZOFFSETTO:-0500
TZNAME:EST
DTSTART:20241103T060000
END:STANDARD
BEGIN:DAYLIGHT
TZOFFSETFROM:-0500
TZOFFSETTO:-0400
TZNAME:EDT
DTSTART:20250309T070000
END:DAYLIGHT
BEGIN:STANDARD
TZOFFSETFROM:-0400
TZOFFSETTO:-0500
TZNAME:EST
DTSTART:20251102T060000
END:STANDARD
BEGIN:DAYLIGHT
TZOFFSETFROM:-0500
TZOFFSETTO:-0400
TZNAME:EDT
DTSTART:20260308T070000
END:DAYLIGHT
BEGIN:STANDARD
TZOFFSETFROM:-0400
TZOFFSETTO:-0500
TZNAME:EST
DTSTART:20261101T060000
END:STANDARD
END:VTIMEZONE
BEGIN:VEVENT
DTSTART;TZID=America/New_York:20250328T091500
DTEND;TZID=America/New_York:20250328T133000
DTSTAMP:20260421T060926
CREATED:20250211T141500Z
LAST-MODIFIED:20250217T193837Z
UID:10000951-1743153300-1743168600@upstatecoop.org
SUMMARY:GVL: 2nd Grade Paris Mtn. Biodiversity Field Trip
DESCRIPTION:Second graders\, siblings\, and families please join us at Paris Mountain on Friday\, March 28th from 9:15-1:30 to learn about biodiversity! \nEach student K5 and up is $5. Adults are not charged\, but they must be present as a chaperone. All students are charged $5 regardless of state park pass. Entry to park is waived with field trip payment. We need 25 students for the field trip to occur. \nStudents will collect water and perform land field investigations as they collect animals\, measure water and air temperature\, and look for patterns among water animals. Students will hike around Lake Placid at the end observing plants and animals. \nPlease bring lunch\, water\, and water shoes if desired. We cannot offer refunds after Tuesday\, March 25th.
URL:https://upstatecoop.org/event/gvl-2nd-grade-paris-mtn-biodiversity-field-trip/
LOCATION:Paris Mountain State Park\, 2401 State Park Road\, Greenville\, SC\, 29609\, United States
CATEGORIES:Field Trip,Greenville,Elementary
ORGANIZER;CN="Susan Jackson":MAILTO:sjackman13@gmail.com
END:VEVENT
BEGIN:VEVENT
DTSTART;TZID=America/New_York:20250307T130000
DTEND;TZID=America/New_York:20250307T141500
DTSTAMP:20260421T060926
CREATED:20241229T180000Z
LAST-MODIFIED:20241231T012910Z
UID:10000895-1741352400-1741356900@upstatecoop.org
SUMMARY:SPT & GVL 3rd thru 5th Graders - Low Ropes Course Team Building Activity at Fire Pit Ranch
DESCRIPTION:This outdoor fun event will take place on Friday\, March 7th at 1 pm at Fire Pit Ranch in Spartanburg. This is a combined team building Low Ropes Course for BOTH Spartanburg and Greenville 3rd thru 5th Graders ONLY. Students will use the low ropes course to engage in team building activites aimed at learning to work together as a team\, with maybe a GVL vs SPT competition. \nPlease ONLY sign up 3rd thru 5th Graders for this event. You can bring younger or older siblings along\, but they will not be participating in the low ropes course and do not need to be signed up. This is a beautiful property with a lake where you can walk around with the siblings or you can watch the team building event. A scavenger hunt will be available for siblings who would like to participate. \nThis event will be funded by YOUR donation!!! \nPlease look up Fire Pit Ranch online and on Faceboook to see all the work they are doing to mentor boys who don’t have a father in the home. In addition\, they have taken the lead on sending crews to NC to rebuild homes\, barns and farmland for our neighbors in NC after Hurricane Helene. Please be generous with your donation which will be collected when you arrive. You can bring cash or a check. \nhttps://firepitranch.com/ https://www.facebook.com/firepitranch
URL:https://upstatecoop.org/event/spt-gvl-3rd-thru-5th-graders-low-ropes-course-team-building-activity-at-fire-pit-ranch/
LOCATION:Fire Pit Ranch\, 590 Foster Mill Rd\, Spartanburg\, SC\, 29302
CATEGORIES:Field Trip,Greenville,Spartanburg,Elementary
ORGANIZER;CN="Valerie Forsberg":MAILTO:vaforsberg@gmail.com
END:VEVENT
BEGIN:VEVENT
DTSTART;TZID=America/New_York:20241011T101500
DTEND;TZID=America/New_York:20241011T123000
DTSTAMP:20260421T060926
CREATED:20240806T141500Z
LAST-MODIFIED:20241009T183406Z
UID:10000746-1728641700-1728649800@upstatecoop.org
SUMMARY:GVL: Hagood Mill Field Trip
DESCRIPTION:We are excited to step back in time at Hagood Mill on Friday\, October 11th at 10:15! Upon arrival\, we will split into four groups to go through stations including Living in the 1800s\, Traditional Native American Games\, Early American Artifacts and Archeology\, and Hearthside cooking. \nThis program is designed for K5 and up. Only participating students will pay. Parents and younger siblings who will not be participating are free. The program will last about 2 hours\, and there is a pavilion to eat lunch under afterwards. \nPlease be sure to purchase a ticket below! \nDeadline to Register: Thursday\, April 10th\, 2:30pm
URL:https://upstatecoop.org/event/gvl-spt-hagood-mill-field-trip/
LOCATION:Hagood Mill\, 138 Hagood Mill Road\, Pickens\, SC\, 29671\, United States
CATEGORIES:Field Trip,Greenville,Elementary
ORGANIZER;CN="Susan Jackson":MAILTO:sjackman13@gmail.com
END:VEVENT
BEGIN:VEVENT
DTSTART;TZID=America/New_York:20241107T103000
DTEND;TZID=America/New_York:20241107T120000
DTSTAMP:20260421T060926
CREATED:20240725T233000Z
LAST-MODIFIED:20240904T012855Z
UID:10000710-1730975400-1730980800@upstatecoop.org
SUMMARY:GVL: K3-5th Grade Mushroom Mountain Field Trip
DESCRIPTION:Join us on Thursday\, November 7th from 10:30-12:00 for a field trip at Mushroom Mountain! Students will receive a book to go along with the tour. Learn about the life cycle and ecology of fungi\, mushroom cultivation\, and walk the mushroom trail. The cost of the trip is $7/person payable at the time of the field trip. Children 4 and under are free. There is a limit of 30. \n 
URL:https://upstatecoop.org/event/gvl-k3-5th-grade-mushroom-mountain-field-trip/
LOCATION:Mushroom Mountain\, 200 Finley Road\, Easley\, SC\, 29642\, United States
CATEGORIES:Field Trip,Greenville,Elementary
ORGANIZER;CN="Susan Jackson":MAILTO:sjackman13@gmail.com
END:VEVENT
BEGIN:VEVENT
DTSTART;TZID=America/New_York:20240927T153000
DTEND;TZID=America/New_York:20240927T170000
DTSTAMP:20260421T060926
CREATED:20240724T143000Z
LAST-MODIFIED:20240826T171808Z
UID:10000708-1727451000-1727456400@upstatecoop.org
SUMMARY:GVL: K3-5th Grade Trailblazer Park Social
DESCRIPTION:We’ll meet at the playground at Trailblazer Park on Friday\, September 27th at 3:30. Come meet up with old friends and create new friends for the start of the 2024-2025 school year! There is a playground\, track\, football field\, and bike paths so feel free to bring anything that would be fun for your children! \nCheck back to RSVP on 9/6/24
URL:https://upstatecoop.org/event/gvl-k3-5th-grade-trailblazer-park-social/
LOCATION:Trailblazer Park\, 125 Trailblazer Drive\, Travelers Rest\, SC\, 29690
CATEGORIES:Greenville,Group Get-Together,Elementary
ORGANIZER;CN="Susan Jackson":MAILTO:sjackman13@gmail.com
END:VEVENT
BEGIN:VEVENT
DTSTART;TZID=America/New_York:20240905T100000
DTEND;TZID=America/New_York:20240905T120000
DTSTAMP:20260421T060926
CREATED:20240716T180052Z
LAST-MODIFIED:20240916T142256Z
UID:10000701-1725530400-1725537600@upstatecoop.org
SUMMARY:GVL: K3-5th Grade Jeter Mountain Field Trip
DESCRIPTION:We will meet at Jeter Mountain on Thursday\, September 5th from 10:00- 12:00 for a cider press demonstration\, u-pick apples with a farmer\, a wagon ride\, and free play in the play area!  Students are $10 and chaperones are $3.  Siblings who plan to attend but not participate in the apple picking are $3 (The price of the wagon ride).  You can pack a lunch or purchase a lunch at their food truck on site.  You can pay at the farm.  They accept cash\, checks\, or credit cards.  We look forward to a fun morning! \n 
URL:https://upstatecoop.org/event/gvl-k3-5th-grade-jeter-mountain-field-trip/
LOCATION:Jeter Mountain Orchard\, 1126 Jeter Mountain Rd\, Hendersonville\, NC\, 28739\, United States
CATEGORIES:Field Trip,Greenville,Elementary
ORGANIZER;CN="Susan Jackson":MAILTO:sjackman13@gmail.com
END:VEVENT
BEGIN:VEVENT
DTSTART;TZID=America/New_York:20240415T103000
DTEND;TZID=America/New_York:20240415T120000
DTSTAMP:20260421T060926
CREATED:20240225T153000Z
LAST-MODIFIED:20240314T162806Z
UID:10000583-1713177000-1713182400@upstatecoop.org
SUMMARY:Elementary GVL: Common Pops Field Trip
DESCRIPTION:Join us Monday\, April 15th from 10:30-12:00 for a tour of Common Pops at Methodical Manufactory. We will learn about their operation and view the kitchen where they produce their pops. They also share this space with Lumineux Chocolate\, The Spatula Bakery\, Jan’s Carrot Cakes\, Nellie T’s\, and Peachy. After wrapping up the tour and learning about popsicle production\, they offer popsicles to all paying attendees and offer a chance to ask any questions.
URL:https://upstatecoop.org/event/elementary-gvl-common-pops-field-trip/
LOCATION:Methodical Manufactory\, 999 Geer Hwy\, Travelers Rest\, SC\, 29690
CATEGORIES:Field Trip,Greenville,Elementary
ORGANIZER;CN="Susan Jackson":MAILTO:sjackman13@gmail.com
END:VEVENT
BEGIN:VEVENT
DTSTART;TZID=America/New_York:20240305T100000
DTEND;TZID=America/New_York:20240305T120000
DTSTAMP:20260421T060926
CREATED:20240214T031246Z
LAST-MODIFIED:20240303T221252Z
UID:10000576-1709632800-1709640000@upstatecoop.org
SUMMARY:UHC Greenville: Zip N Slip Snow Tubing 3/5
DESCRIPTION:*Due to the overwhelming response to the first trip\, a second one has been scheduled! Out of respect for the many that didn’t get to attend the first one\, please allow those who did not get to attend the first trip sign up.* \nJoin us for 2 hours of tubing at Zip N Slip in NC on Tuesday\, March 5th from 10:00-12:00. We will have the whole snow park to ourselves! Each ticket is only $15 per person due to a HUGE homeschool discount! Children ages 3-5 are free with a paying adult. Children under the age of 3 are not allowed down the slope due to their insurance regulations\, but they are allowed to play in the snow. After tubing\, they provide marshmallows to roast. You can pack a lunch. Also\, a change of clothes is recommended as you will get messy. Please print out and sign a waiver that you can find online on their website for your family. Payment will be due on site when you arrive! We just need a headcount of who is attending.
URL:https://upstatecoop.org/event/uhc-greenville-zip-n-slip-snow-tubing-3-5/
LOCATION:Zip and Slip
CATEGORIES:Greenville,Group Get-Together,Elementary,Middle School,High School
ORGANIZER;CN="Susan Jackson":MAILTO:sjackman13@gmail.com
END:VEVENT
BEGIN:VEVENT
DTSTART;TZID=America/New_York:20240220T100000
DTEND;TZID=America/New_York:20240220T120000
DTSTAMP:20260421T060926
CREATED:20240130T150000Z
LAST-MODIFIED:20240208T174311Z
UID:10000568-1708423200-1708430400@upstatecoop.org
SUMMARY:UHC Greenville: Zip N Slip Snow Tubing
DESCRIPTION:Join us for 2 hours of tubing at Zip N Slip in NC on Tuesday\, February 20th from 10:00-12:00. We will have the whole snow park to ourselves! Each ticket is only $15 per person due to a HUGE homeschool discount! Children ages 3-5 are free with a paying adult. Children under the age of 3 are not allowed down the slope due to their insurance regulations. After tubing\, they provide marshmallows to roast. You can pack a lunch. Also\, a change of clothes are recommended as you will get messy. Please print out and sign a waiver that you can find online on their website for your family. There will be extra at the event as needed! Payment will be due on site when you arrive! We just need a headcount of who is attending.
URL:https://upstatecoop.org/event/uhc-greenville-zip-n-slip-snow-tubing/
LOCATION:Zip and Slip
CATEGORIES:Greenville,Group Get-Together
ORGANIZER;CN="Susan Jackson":MAILTO:sjackman13@gmail.com
END:VEVENT
BEGIN:VEVENT
DTSTART;TZID=America/New_York:20240229T100000
DTEND;TZID=America/New_York:20240229T120000
DTSTAMP:20260421T060926
CREATED:20240101T150000Z
LAST-MODIFIED:20240126T132202Z
UID:10000541-1709200800-1709208000@upstatecoop.org
SUMMARY:GVL Elementary Field Trip: Western NC Nature Center
DESCRIPTION:Join us at 10:00 on February 29th at the Western North Carolina Nature Center in Asheville for a guided tour on habitats. Please bring a lunch if desired\, a water bottle\, and good walking shoes. The walking loop is about 1.5 miles long with hills involved. All paths are paved if you need a stroller\, but keep in mind the paths are hilly! The event will occur rain or shine. There is a gift shop for snacks/drinks. \nTickets are $6.31 per individual. Children 2 & under are free. Please purchase a ticket for anyone over the age of 2. If you are also bringing a child under the age of 2\, please RSVP for them so we have an accurate headcount.  \nPayment will be non-refundable after February 26th.
URL:https://upstatecoop.org/event/gvl-elementary-field-trip-western-nature-center/
LOCATION:Western NC Nature Center\, 75 Gashes Creek Road\, Asheville\, NC\, 28805\, United States
CATEGORIES:Field Trip,Greenville,Elementary
ORGANIZER;CN="Susan Jackson":MAILTO:sjackman13@gmail.com
END:VEVENT
BEGIN:VEVENT
DTSTART;TZID=America/New_York:20231109T100000
DTEND;TZID=America/New_York:20231109T113000
DTSTAMP:20260421T060926
CREATED:20230915T201500Z
LAST-MODIFIED:20230929T193001Z
UID:10000417-1699524000-1699529400@upstatecoop.org
SUMMARY:GVL - Elementary Field Trip: Greenville Downtown Airport
DESCRIPTION:On Thursday\, November 9th at 10:00 join us to sit inside a Cessna 150 aircraft\, learn about aviation\, play at the playground\, and watch planes take off and land every five minutes at Runway Park at GMU! Students are $5.18. Chaperones are free of charge. Children 2 and under are free! Please pay in advance online.
URL:https://upstatecoop.org/event/gvl-elementary-field-trip-greenville-downtown-airport/
LOCATION:Greenville Downtown Airport\, 21 Airport Road Ext\, Greenville\, SC\, 29607
CATEGORIES:Field Trip,Greenville,Elementary
ORGANIZER;CN="Susan Jackson":MAILTO:sjackman13@gmail.com
END:VEVENT
END:VCALENDAR