BEGIN:VCALENDAR
VERSION:2.0
PRODID:-//Upstate Homeschool Co-op - ECPv6.15.20//NONSGML v1.0//EN
CALSCALE:GREGORIAN
METHOD:PUBLISH
X-ORIGINAL-URL:https://upstatecoop.org
X-WR-CALDESC:Events for Upstate Homeschool Co-op
REFRESH-INTERVAL;VALUE=DURATION:PT1H
X-Robots-Tag:noindex
X-PUBLISHED-TTL:PT1H
BEGIN:VTIMEZONE
TZID:America/New_York
BEGIN:DAYLIGHT
TZOFFSETFROM:-0500
TZOFFSETTO:-0400
TZNAME:EDT
DTSTART:20220313T070000
END:DAYLIGHT
BEGIN:STANDARD
TZOFFSETFROM:-0400
TZOFFSETTO:-0500
TZNAME:EST
DTSTART:20221106T060000
END:STANDARD
BEGIN:DAYLIGHT
TZOFFSETFROM:-0500
TZOFFSETTO:-0400
TZNAME:EDT
DTSTART:20230312T070000
END:DAYLIGHT
BEGIN:STANDARD
TZOFFSETFROM:-0400
TZOFFSETTO:-0500
TZNAME:EST
DTSTART:20231105T060000
END:STANDARD
BEGIN:DAYLIGHT
TZOFFSETFROM:-0500
TZOFFSETTO:-0400
TZNAME:EDT
DTSTART:20240310T070000
END:DAYLIGHT
BEGIN:STANDARD
TZOFFSETFROM:-0400
TZOFFSETTO:-0500
TZNAME:EST
DTSTART:20241103T060000
END:STANDARD
BEGIN:DAYLIGHT
TZOFFSETFROM:-0500
TZOFFSETTO:-0400
TZNAME:EDT
DTSTART:20250309T070000
END:DAYLIGHT
BEGIN:STANDARD
TZOFFSETFROM:-0400
TZOFFSETTO:-0500
TZNAME:EST
DTSTART:20251102T060000
END:STANDARD
END:VTIMEZONE
BEGIN:VEVENT
DTSTART;TZID=America/New_York:20241023T130000
DTEND;TZID=America/New_York:20241023T150000
DTSTAMP:20260422T074726
CREATED:20241014T170000Z
LAST-MODIFIED:20241016T023001Z
UID:10000834-1729688400-1729695600@upstatecoop.org
SUMMARY:SPT: HS Big Air
DESCRIPTION:Join your fellow students for a fun time at Big Air! Come ready to pay the entrance fee and remember to wear appropriate jumping attire. Entrance fee is $15 + cost for socks. Please sign up if you plan to attend. Parent chaperones are needed. \nThis is an off-campus event. It will not be attended or supervised by UHC staff members.
URL:https://upstatecoop.org/event/spt-hs-outing-to-big-air/
LOCATION:Big Air Trampoline Park\, 660 Spartan Blvd #200\, Spartanburg\, SC\, 29301\, United States
CATEGORIES:Spartanburg,High School
ORGANIZER;CN="Cindi Myers":MAILTO:myersklan@gmail.com
END:VEVENT
BEGIN:VEVENT
DTSTART;TZID=America/New_York:20240320T130000
DTEND;TZID=America/New_York:20240320T150000
DTSTAMP:20260422T074726
CREATED:20240308T180000Z
LAST-MODIFIED:20240319T155340Z
UID:10000592-1710939600-1710946800@upstatecoop.org
SUMMARY:SPT MS/HS - Big Air Trampoline Park
DESCRIPTION:Let’s jump into Spring at Big Air Trampoline Park on Wednesday\, March 20th\, 1:00 – 3:00!\n*Price: $18 for 2 hours. $15 when you present proof of homeschool status. Big Air grip socks required ($4/pair).\nHomeschool discount will be applied at the register. \nPlease RSVP via the UHC Website. Save time by filling out a waiver per person online. \nWe had such a good turnout & lots of fun last time\, let’s do it again! Hope to see you there!
URL:https://upstatecoop.org/event/spt-ms-hs-big-air-trampoline-park/
LOCATION:Big Air Trampoline Park\, 660 Spartan Blvd #200\, Spartanburg\, SC\, 29301\, United States
CATEGORIES:Spartanburg,Middle School,High School
ORGANIZER;CN="Katie Wakefield":MAILTO:khwgagirl@yahoo.com
END:VEVENT
BEGIN:VEVENT
DTSTART;TZID=America/New_York:20231129T130000
DTEND;TZID=America/New_York:20231129T150000
DTSTAMP:20260422T074726
CREATED:20231020T170000Z
LAST-MODIFIED:20231022T190953Z
UID:10000496-1701262800-1701270000@upstatecoop.org
SUMMARY:SPT 3rd-5th Big Air
DESCRIPTION:Let’s celebrate the end of the semester together at Big Air Trampoline Park on Wednesday\, November 29th 1pm-3pm. $15 per jumper-just show your homeschool association card/proof! (If you don’t already have Big Air socks\, those will be $4). A waiver is required at Big Air that you can fill out when you get there or ahead of time on their website. Siblings welcome!! (Parents will need to stay if siblings are attending as well.)
URL:https://upstatecoop.org/event/spt-3rd-5th-big-air/
LOCATION:Big Air Trampoline Park\, 660 Spartan Blvd #200\, Spartanburg\, SC\, 29301\, United States
CATEGORIES:Field Trip,Spartanburg,Elementary
ORGANIZER;CN="Lauren Pannell":MAILTO:laurenpannell4@gmail.com
END:VEVENT
END:VCALENDAR