BEGIN:VCALENDAR
VERSION:2.0
PRODID:-//Upstate Homeschool Co-op - ECPv6.15.20//NONSGML v1.0//EN
CALSCALE:GREGORIAN
METHOD:PUBLISH
X-ORIGINAL-URL:https://upstatecoop.org
X-WR-CALDESC:Events for Upstate Homeschool Co-op
REFRESH-INTERVAL;VALUE=DURATION:PT1H
X-Robots-Tag:noindex
X-PUBLISHED-TTL:PT1H
BEGIN:VTIMEZONE
TZID:America/New_York
BEGIN:DAYLIGHT
TZOFFSETFROM:-0500
TZOFFSETTO:-0400
TZNAME:EDT
DTSTART:20230312T070000
END:DAYLIGHT
BEGIN:STANDARD
TZOFFSETFROM:-0400
TZOFFSETTO:-0500
TZNAME:EST
DTSTART:20231105T060000
END:STANDARD
BEGIN:DAYLIGHT
TZOFFSETFROM:-0500
TZOFFSETTO:-0400
TZNAME:EDT
DTSTART:20240310T070000
END:DAYLIGHT
BEGIN:STANDARD
TZOFFSETFROM:-0400
TZOFFSETTO:-0500
TZNAME:EST
DTSTART:20241103T060000
END:STANDARD
BEGIN:DAYLIGHT
TZOFFSETFROM:-0500
TZOFFSETTO:-0400
TZNAME:EDT
DTSTART:20250309T070000
END:DAYLIGHT
BEGIN:STANDARD
TZOFFSETFROM:-0400
TZOFFSETTO:-0500
TZNAME:EST
DTSTART:20251102T060000
END:STANDARD
END:VTIMEZONE
BEGIN:VEVENT
DTSTART;TZID=America/New_York:20240229T151500
DTEND;TZID=America/New_York:20240229T162500
DTSTAMP:20260419T110825
CREATED:20240205T201500Z
LAST-MODIFIED:20240225T231513Z
UID:10000569-1709219700-1709223900@upstatecoop.org
SUMMARY:SPT - MS/HS  Scoops on Main!
DESCRIPTION:SPT Middle & High Schoolers – come hang out & eat ice cream after co-op at Scoops on Main! Short drive from co-op in Spartanburg near Duncan/Moore at 21 E Main St\, Duncan\, SC.  Thursday\, February 29th – 3:15 – 4:15/30. Please sign up through our UHC Website with your child’s name & grade. If you plan to drop off your child\, you must sign up & let Katie Wakefield know. Contact Katie with any questions!
URL:https://upstatecoop.org/event/spt-ms-hs-scoops/
LOCATION:Scoops on Main\, 2153 E Main St\, Duncan\, SC\, 29334\, United States
CATEGORIES:High School Social,Middle School Social,Middle School,High School
ORGANIZER;CN="Kate Wakefield":MAILTO:khwgagirl@yahoo.com
END:VEVENT
END:VCALENDAR